BEGIN:VCALENDAR
VERSION:2.0
PRODID:-//High Expectations Dog Training - ECPv6.15.13//NONSGML v1.0//EN
CALSCALE:GREGORIAN
METHOD:PUBLISH
X-WR-CALNAME:High Expectations Dog Training
X-ORIGINAL-URL:https://hedogtraining.com
X-WR-CALDESC:Events for High Expectations Dog Training
REFRESH-INTERVAL;VALUE=DURATION:PT1H
X-Robots-Tag:noindex
X-PUBLISHED-TTL:PT1H
BEGIN:VTIMEZONE
TZID:America/Los_Angeles
BEGIN:DAYLIGHT
TZOFFSETFROM:-0800
TZOFFSETTO:-0700
TZNAME:PDT
DTSTART:20250309T100000
END:DAYLIGHT
BEGIN:STANDARD
TZOFFSETFROM:-0700
TZOFFSETTO:-0800
TZNAME:PST
DTSTART:20251102T090000
END:STANDARD
BEGIN:DAYLIGHT
TZOFFSETFROM:-0800
TZOFFSETTO:-0700
TZNAME:PDT
DTSTART:20260308T100000
END:DAYLIGHT
BEGIN:STANDARD
TZOFFSETFROM:-0700
TZOFFSETTO:-0800
TZNAME:PST
DTSTART:20261101T090000
END:STANDARD
BEGIN:DAYLIGHT
TZOFFSETFROM:-0800
TZOFFSETTO:-0700
TZNAME:PDT
DTSTART:20270314T100000
END:DAYLIGHT
BEGIN:STANDARD
TZOFFSETFROM:-0700
TZOFFSETTO:-0800
TZNAME:PST
DTSTART:20271107T090000
END:STANDARD
END:VTIMEZONE
BEGIN:VEVENT
DTSTART;TZID=America/Los_Angeles:20260419T150000
DTEND;TZID=America/Los_Angeles:20260419T170000
DTSTAMP:20260423T142543
CREATED:20260325T000252Z
LAST-MODIFIED:20260325T000317Z
UID:1273-1776610800-1776618000@hedogtraining.com
SUMMARY:Puppy Social Drop Off (8-16 week old)
DESCRIPTION:Designed for puppies 8–16 weeks old who are up to date on vaccinations\, our Puppy Social Hour gives your pup safe\, structured socialization during this critical stage of development. \nDrop your puppy off for one or two hours of supervised play and learning with other puppies: \n1 hour – $40\n2 hours – $60 \nAll sessions are fully supervised by a Certified Dog Trainer\, ensuring positive interactions and age appropriate social skills. \nRun your errands with peace of mind knowing your puppy is building confidence\, learning proper play\, and getting essential early socialization in a safe environment.
URL:https://hedogtraining.com/event/puppy-social-drop-off-8-16-week-old-3/
ATTACH;FMTTYPE=image/jpeg:https://hedogtraining.com/wp-content/uploads/2026/03/618374625_1490374103096348_1905615761129499980_n.jpg
END:VEVENT
END:VCALENDAR